BEGIN:VCALENDAR
VERSION:2.0
PRODID:-//ChamberMaster//Event Calendar 2.0//EN
METHOD:PUBLISH
X-PUBLISHED-TTL:P3D
REFRESH-INTERVAL:P3D
CALSCALE:GREGORIAN
BEGIN:VEVENT
DTSTART;VALUE=DATE:20211006
DTEND;VALUE=DATE:20211021
TRANSP:TRANSPARENT
X-MICROSOFT-CDO-ALLDAYEVENT:TRUE
SUMMARY:YPL Thanksgiving Food Drive
DESCRIPTION:The Young Professionals of Lancaster is hosting a Thanksgiving Food Drive to benefit the Byron Saunders Foundation\, which gives a Thanksgiving meal to families in need right here in Fairfield County. \n\n\n\nA drop off box will be at Double Edge Brewing Co. starting on Wednesday October 6th!\n\n\n\nAt the end of the month we will have a get together at Double Edge to celebrate your impact! \n\n\n\nSee the image below for a list of suggested donations.
X-ALT-DESC;FMTTYPE=text/html:The Young Professionals of Lancaster is hosting a Thanksgiving Food Drive to benefit the Byron Saunders Foundation\, which gives a Thanksgiving meal to families in need right here in Fairfield County.&nbsp\;<br />\n<br />\nA drop off box will be at Double Edge Brewing Co. starting on Wednesday October 6th!<br />\n<br />\nAt the end of the month we will have a get together at Double Edge to celebrate your impact!&nbsp\;<br />\n<br />\nSee the image below for a list of suggested donations.
LOCATION:Double Edge Brewing Co. 158 West Chestnut Street Lancaster\, OH
UID:e.3121.705
SEQUENCE:3
DTSTAMP:20260425T030010Z
URL:https://business.lancoc.org/events/details/ypl-thanksgiving-food-drive-705
END:VEVENT

END:VCALENDAR
