BEGIN:VCALENDAR
VERSION:2.0
PRODID:-//ChamberMaster//Event Calendar 2.0//EN
METHOD:PUBLISH
X-PUBLISHED-TTL:P3D
REFRESH-INTERVAL:P3D
CALSCALE:GREGORIAN
BEGIN:VEVENT
DTSTART:20211020T200000Z
DTEND:20211020T220000Z
X-MICROSOFT-CDO-ALLDAYEVENT:FALSE
SUMMARY:YPL Food Drive After Hours Event
DESCRIPTION:Young Professionals of Lancaster\n\nFood Drive After Hours Event \n\n\nIn conjunction with our Byron Saunders Foundation-Fairfield County Thanksgiving Food Drive\, we will have an After Hours event on October 20th from 4-6 at Double Edge Brewing.\n\n\n\nBring a Donation\, Grab a Drink\, Network and for each drink sold during the event\, $1 will go to support the Byron Saunders Foundation-Fairfield County.\n\n\n\nP.S. the most needed donations are for canned yams and cranberry sauce. Monetary donations will also be accepted.\n\nVisit the YPL Facebook Page HERE to Learn More
X-ALT-DESC;FMTTYPE=text/html:<div style="text-align: center\;"><span style="font-size:18px\;"><strong>Young Professionals of Lancaster<br />\nFood Drive After Hours Event&nbsp\;</strong></span></div>\n<br />\n<span style="font-size:18px\;"><span style="font-size:16px\;">In conjunction with our Byron Saunders Foundation-Fairfield County Thanksgiving Food Drive\, we will have an After Hours event on October 20th from 4-6 at Double Edge Brewing.<br />\n<br />\nBring a Donation\, Grab a Drink\, Network and for each drink sold during the event\, $1 will go to support the Byron Saunders Foundation-Fairfield County.<br />\n<br />\nP.S. the most needed donations are for canned yams and cranberry sauce. Monetary donations will also be accepted.<br />\nVisit the YPL Facebook Page HERE to Learn More</span></span>
LOCATION:Double Edge Brewing Co. 158 West Chestnut Street Lancaster Ohio 43130
UID:e.3121.718
SEQUENCE:3
DTSTAMP:20260425T011003Z
URL:https://business.lancoc.org/events/details/ypl-food-drive-after-hours-event-718
END:VEVENT

END:VCALENDAR
