BEGIN:VCALENDAR
VERSION:2.0
PRODID:-//ChamberMaster//Event Calendar 2.0//EN
METHOD:PUBLISH
X-PUBLISHED-TTL:P3D
REFRESH-INTERVAL:P3D
CALSCALE:GREGORIAN
BEGIN:VEVENT
DTSTART:20210930T200000Z
DTEND:20210930T220000Z
X-MICROSOFT-CDO-ALLDAYEVENT:FALSE
SUMMARY:YPL After Hours at Outerbelt Brewing Company
DESCRIPTION:Join the Young Professionals of Lancaster\n\nat an After Hours Event at Outerbelt Brewing Company\,\n\non Thursday\, September 30th from 4 - 6 pm.
X-ALT-DESC;FMTTYPE=text/html:<div style="text-align: center\;"><span style="font-size:18px\;">Join the <strong>Young Professionals of Lancaster</strong><br />\nat an After Hours Event at Outerbelt Brewing Company\,<br />\non <strong>Thursday\, September 30th from 4 - 6 pm.</strong></span></div>\n
LOCATION:Outerbelt Brewing Company 3560 Dolson Court\, Suite A\, Carroll
UID:e.3121.670
SEQUENCE:3
DTSTAMP:20260425T030011Z
URL:https://business.lancoc.org/events/details/ypl-after-hours-at-outerbelt-brewing-company-670
END:VEVENT

END:VCALENDAR
