BEGIN:VCALENDAR
VERSION:2.0
PRODID:-//ChamberMaster//Event Calendar 2.0//EN
METHOD:PUBLISH
X-PUBLISHED-TTL:P3D
REFRESH-INTERVAL:P3D
CALSCALE:GREGORIAN
BEGIN:VEVENT
DTSTART:20210422T200000Z
DTEND:20210422T220000Z
X-MICROSOFT-CDO-ALLDAYEVENT:FALSE
SUMMARY:Young Professionals of Lancaster's April 2021 Happy Hour
DESCRIPTION:YPL is hosting their 1st 2021 In-Person Happy Hour!\n\nThis event will be a BYOB so grab a drink\, grab a friend\, grab your mask and stop by to say hello and connect with your fellow young professionals! \n\n\n\nThank you to the sponsor of this event\, Jay Mattlin from Keller Williams Realty\, who will supply snacks & non-alcoholic beverages.\n\n\n\nR.S.V.P. by emailing youngprofessionalsoflancaster@gmail.com
X-ALT-DESC;FMTTYPE=text/html:YPL is hosting their 1st 2021 In-Person Happy Hour!<br />\nThis event will be a BYOB so grab a drink\, grab a friend\, grab your mask and stop by to say hello and connect with your fellow young professionals!&nbsp\;<br />\n<br />\nThank you to the sponsor of this event\, Jay Mattlin from Keller Williams Realty\, who will supply snacks &amp\; non-alcoholic beverages.<br />\n<br />\nR.S.V.P. by emailing youngprofessionalsoflancaster@gmail.com&nbsp\;
LOCATION:Outdoors at the Fairfield County Foundation at 162 E Main St in Lancaster
UID:e.3121.571
SEQUENCE:3
DTSTAMP:20260425T154152Z
URL:https://business.lancoc.org/events/details/young-professionals-of-lancaster-s-april-2021-happy-hour-571
END:VEVENT

END:VCALENDAR
