BEGIN:VCALENDAR
VERSION:2.0
PRODID:-//ChamberMaster//Event Calendar 2.0//EN
METHOD:PUBLISH
X-PUBLISHED-TTL:P3D
REFRESH-INTERVAL:P3D
CALSCALE:GREGORIAN
BEGIN:VEVENT
DTSTART:20190914T140000Z
DTEND:20190914T160000Z
X-MICROSOFT-CDO-ALLDAYEVENT:FALSE
SUMMARY:Young Professionals of Lancaster: Paint a Bowl for Hunger at Art & Clay on Main
DESCRIPTION:Join your fellow young professionals at Art & Clay on Main in Lancaster for this great networking opportunity.  Proceeds from this event benefit The Hunger Coalition.
X-ALT-DESC;FMTTYPE=text/html:Join your fellow young professionals at Art &amp\; Clay on Main in Lancaster for this great networking opportunity.&nbsp\; Proceeds from this event benefit The Hunger Coalition.
LOCATION:Art & Clay on Main 150 W Main Street Lancaster\, Ohio 43130
UID:e.3121.344
SEQUENCE:3
DTSTAMP:20260424T080557Z
URL:https://business.lancoc.org/events/details/young-professionals-of-lancaster-paint-a-bowl-for-hunger-at-art-clay-on-main-344
END:VEVENT

END:VCALENDAR
