BEGIN:VCALENDAR
VERSION:2.0
PRODID:-//ChamberMaster//Event Calendar 2.0//EN
METHOD:PUBLISH
X-PUBLISHED-TTL:P3D
REFRESH-INTERVAL:P3D
CALSCALE:GREGORIAN
BEGIN:VEVENT
DTSTART:20191004T153000Z
DTEND:20191004T173000Z
X-MICROSOFT-CDO-ALLDAYEVENT:FALSE
SUMMARY:Young Professionals of Lancaster: October Lunch & Learn
DESCRIPTION:Join your fellow young professionals at O'Huids Galelic Pub on Main in downtown Lancaster for this great networking opportunity.  Speaker will be Judy Hood\, Owner of O'Huids Gaelic Pub.
X-ALT-DESC;FMTTYPE=text/html:Join your fellow young professionals at O&#39\;Huids Galelic Pub on Main in downtown Lancaster for this great networking opportunity.&nbsp\; Speaker will be Judy Hood\, Owner of O&#39\;Huids Gaelic Pub.&nbsp\;
LOCATION:O'Huids Gaelic Pub 167 W Main Street Lancaster\, Ohio 43130
UID:e.3121.358
SEQUENCE:3
DTSTAMP:20260424T043404Z
URL:https://business.lancoc.org/events/details/young-professionals-of-lancaster-october-lunch-learn-358
END:VEVENT

END:VCALENDAR
