BEGIN:VCALENDAR
VERSION:2.0
PRODID:-//ChamberMaster//Event Calendar 2.0//EN
METHOD:PUBLISH
X-PUBLISHED-TTL:P3D
REFRESH-INTERVAL:P3D
CALSCALE:GREGORIAN
BEGIN:VEVENT
DTSTART:20191203T123000Z
DTEND:20191203T133000Z
X-MICROSOFT-CDO-ALLDAYEVENT:FALSE
SUMMARY:Young Professionals of Lancaster December 3\, 2019 Power Breakfast
DESCRIPTION:Speaker is Jonathan Hanks\, Executive Director of Maywood Mission\n\n\n\n"The Power Breakfast is a free event for Young Professionals to not only network\, but a time to hear and learn from various community leaders about the importance of giving back to your community and the power of connecting."
X-ALT-DESC;FMTTYPE=text/html:Speaker is Jonathan Hanks\, Executive Director of Maywood Mission<br />\n<br />\n&ldquo\;The Power Breakfast is a free event for Young Professionals to not only network\, but a time to hear and learn from various community leaders about the importance of giving back to your community and the power of connecting.&rdquo\;<br />\n&nbsp\;<br />\n&nbsp\;
LOCATION:Keller Market House 134 S Columbus Street Lancaster\, OH 43130
UID:e.3121.383
SEQUENCE:3
DTSTAMP:20260423T225833Z
URL:https://business.lancoc.org/events/details/young-professionals-of-lancaster-december-3-2019-power-breakfast-383
END:VEVENT

END:VCALENDAR
