BEGIN:VCALENDAR
VERSION:2.0
PRODID:-//ChamberMaster//Event Calendar 2.0//EN
METHOD:PUBLISH
X-PUBLISHED-TTL:P3D
REFRESH-INTERVAL:P3D
CALSCALE:GREGORIAN
BEGIN:VEVENT
DTSTART:20200806T153000Z
DTEND:20200806T164000Z
X-MICROSOFT-CDO-ALLDAYEVENT:FALSE
SUMMARY:Young Professionals of Lancaster: August Lunch & Learn
DESCRIPTION:Join Lancaster and Circleville YPs to escape the "Covid Crazy" and learn about staying mentally and physically well during this time. All you have to do is grab your lunch\, click the link below\, and join us for our first virtual lunch and learn!
X-ALT-DESC;FMTTYPE=text/html:<span style="color: rgb(5\, 5\, 5)\; font-family: &quot\;Segoe UI Historic&quot\;\, &quot\;Segoe UI&quot\;\, Helvetica\, Arial\, sans-serif\; font-size: 15px\; font-style: normal\; font-variant-ligatures: normal\; font-variant-caps: normal\; font-weight: 400\; letter-spacing: normal\; orphans: 2\; text-align: start\; text-indent: 0px\; text-transform: none\; white-space: normal\; widows: 2\; word-spacing: 0px\; -webkit-text-stroke-width: 0px\; background-color: rgb(255\, 255\, 255)\; text-decoration-style: initial\; text-decoration-color: initial\; display: inline !important\; float: none\;">Join Lancaster and Circleville YPs to escape the &quot\;Covid Crazy&quot\; and learn about staying mentally and physically well during this time. All you have to do is grab your lunch\, click the link below\, and join us for our first virtual lunch and learn!</span>
LOCATION:Via ZOOM Meeting https://us02web.zoom.us/j/84368994659?pwd=ckhtWU03cWFPcWVUb2kraUFUeG5MQT09 Meeting ID: 843 6899 4659 Password: 3mzphn
UID:e.3121.465
SEQUENCE:3
DTSTAMP:20260423T104905Z
URL:https://business.lancoc.org/events/details/young-professionals-of-lancaster-august-lunch-learn-465
END:VEVENT

END:VCALENDAR
