BEGIN:VCALENDAR
VERSION:2.0
PRODID:-//ChamberMaster//Event Calendar 2.0//EN
METHOD:PUBLISH
X-PUBLISHED-TTL:P3D
REFRESH-INTERVAL:P3D
CALSCALE:GREGORIAN
BEGIN:VEVENT
DTSTART:20190820T210000Z
DTEND:20190820T230000Z
X-MICROSOFT-CDO-ALLDAYEVENT:FALSE
SUMMARY:Young Professionals of Lancaster: After Hours at Rockside Winery AUGUST 2019
DESCRIPTION:Join your fellow young professionals at the Rockside Winery in Lancaster for this great networking opportunity.  Enjoy a glass of wine or any of the other many beverages available.  Pair that with a freshly prepared small plate.
X-ALT-DESC;FMTTYPE=text/html:Join your fellow young professionals at the Rockside Winery in Lancaster for this great networking opportunity.&nbsp\; Enjoy a glass of wine or any of the other many beverages available.&nbsp\; Pair that with a freshly prepared small plate.<br />\n&nbsp\;
LOCATION:Rockside Winery 2363 Lancaster Newark Road NE Lancaster\, Ohio 43130
UID:e.3121.327
SEQUENCE:3
DTSTAMP:20260424T095301Z
URL:https://business.lancoc.org/events/details/young-professionals-of-lancaster-after-hours-at-rockside-winery-august-2019-327
END:VEVENT

END:VCALENDAR
