BEGIN:VCALENDAR
VERSION:2.0
PRODID:-//ChamberMaster//Event Calendar 2.0//EN
METHOD:PUBLISH
X-PUBLISHED-TTL:P3D
REFRESH-INTERVAL:P3D
CALSCALE:GREGORIAN
BEGIN:VEVENT
DTSTART:20200116T210000Z
DTEND:20200116T230000Z
X-MICROSOFT-CDO-ALLDAYEVENT:FALSE
SUMMARY:Young Professionals of Lancaster: After Hours at Outerbelt Brewing
DESCRIPTION:Join your fellow young professionals at Outerbelt Brewing for this great networking opportunity. \n\nEnjoy $2 off drafts!
X-ALT-DESC;FMTTYPE=text/html:Join your fellow young professionals at Outerbelt Brewing for this great networking opportunity.&nbsp\;<br />\nEnjoy $2 off drafts!
LOCATION:Outerbelt Brewing 3560 Dolson Court Carroll\, OH 43112
UID:e.3121.391
SEQUENCE:3
DTSTAMP:20260423T224317Z
URL:https://business.lancoc.org/events/details/young-professionals-of-lancaster-after-hours-at-outerbelt-brewing-391
END:VEVENT

END:VCALENDAR
