BEGIN:VCALENDAR
VERSION:2.0
PRODID:-//ChamberMaster//Event Calendar 2.0//EN
METHOD:PUBLISH
X-PUBLISHED-TTL:P3D
REFRESH-INTERVAL:P3D
CALSCALE:GREGORIAN
BEGIN:VEVENT
DTSTART:20191107T210000Z
DTEND:20191107T230000Z
X-MICROSOFT-CDO-ALLDAYEVENT:FALSE
SUMMARY:Young Professionals of Lancaster: After Hours at Decorative Arts Center of Ohio
DESCRIPTION:Join your fellow young professionals at the Decorative Arts Center Of Ohio for this great networking opportunity.  Enjoy a drink and appetizers!
X-ALT-DESC;FMTTYPE=text/html:Join your fellow young professionals at the Decorative Arts Center Of Ohio for this great networking opportunity.&nbsp\; Enjoy a drink and appetizers!
LOCATION:Decorative Arts Center of Ohio 145 E Main Street Lancaster\, Ohio 43130
UID:e.3121.367
SEQUENCE:3
DTSTAMP:20260424T024439Z
URL:https://business.lancoc.org/events/details/young-professionals-of-lancaster-after-hours-at-decorative-arts-center-of-ohio-367
END:VEVENT

END:VCALENDAR
