BEGIN:VCALENDAR
VERSION:2.0
PRODID:-//ChamberMaster//Event Calendar 2.0//EN
METHOD:PUBLISH
X-PUBLISHED-TTL:P3D
REFRESH-INTERVAL:P3D
CALSCALE:GREGORIAN
BEGIN:VEVENT
DTSTART:20200218T123000Z
DTEND:20200218T133000Z
X-MICROSOFT-CDO-ALLDAYEVENT:FALSE
SUMMARY:Young Professionals of Lancaster 2020: February Power Breakfast at Keller Market House
DESCRIPTION:Young Professionals of Lancaster: Power Breakfast at Keller Market House\n\n\n\nJoin your fellow young professionals for this great networking opportunity.
X-ALT-DESC;FMTTYPE=text/html:Young Professionals of Lancaster: Power Breakfast at Keller Market House<br />\n<br />\nJoin your fellow young professionals for this great networking opportunity.&nbsp\;
LOCATION:Keller Market House 134 S Columbus Street Lancaster\, OH 43130
UID:e.3121.415
SEQUENCE:3
DTSTAMP:20260423T211444Z
URL:https://business.lancoc.org/events/details/young-professionals-of-lancaster-2020-february-power-breakfast-at-keller-market-house-415
END:VEVENT

END:VCALENDAR
