BEGIN:VCALENDAR
VERSION:2.0
PRODID:-//ChamberMaster//Event Calendar 2.0//EN
METHOD:PUBLISH
X-PUBLISHED-TTL:P3D
REFRESH-INTERVAL:P3D
CALSCALE:GREGORIAN
BEGIN:VEVENT
DTSTART:20210508T130000Z
DTEND:20210508T170000Z
X-MICROSOFT-CDO-ALLDAYEVENT:FALSE
SUMMARY:Yard Sale at the Sherman House\, Fairfield Heritage Association
DESCRIPTION:The Yard Sale at the Sherman House Museum will be from 9am to 1pm\, rain or shine. The wonderful gardeners who keep the Sherman House and the Georgian looking great will have plants for sale. And we will have a fun array of yard sale items.
X-ALT-DESC;FMTTYPE=text/html:<b style="color: rgb(32\, 31\, 30)\; font-family: garamond\, &quot\;times new roman&quot\;\, serif\; font-size: large\; background-color: rgb(255\, 255\, 255)\;">The Yard Sale at the Sherman House Museum</b><span style="color: rgb(32\, 31\, 30)\; font-family: garamond\, &quot\;times new roman&quot\;\, serif\; font-size: large\; background-color: rgb(255\, 255\, 255)\;">&nbsp\;will be from 9am to 1pm\, rain or shine. The wonderful gardeners who keep the Sherman House and the Georgian looking great will have plants for sale. And we will have a fun array of yard sale items.</span>
LOCATION:Sherman House 137 E. Main St\, Lancaster\, OH 43130
UID:e.3121.576
SEQUENCE:3
DTSTAMP:20260422T163839Z
URL:https://business.lancoc.org/events/details/yard-sale-at-the-sherman-house-fairfield-heritage-association-576
END:VEVENT

END:VCALENDAR
