BEGIN:VCALENDAR
VERSION:2.0
PRODID:-//ChamberMaster//Event Calendar 2.0//EN
METHOD:PUBLISH
X-PUBLISHED-TTL:P3D
REFRESH-INTERVAL:P3D
CALSCALE:GREGORIAN
BEGIN:VEVENT
DTSTART:20211118T000000Z
DTEND:20211118T020000Z
X-MICROSOFT-CDO-ALLDAYEVENT:FALSE
SUMMARY:World Famous Civil War Trivia
DESCRIPTION:The Sherman Civil War Roundtable hosts its annual "World Famous Civil War Trivia" at 7pm Wednesday\, Nov. 17\, at the Sherman House Museum. The walls of the historic Sherman home will ring with laughter during this lighthearted trivia contest led by Roundtable President BIll Brubach. The event is open to all. Admission is $5. Refreshments first and then guests will be divided into teams.
X-ALT-DESC;FMTTYPE=text/html:The Sherman Civil War Roundtable hosts its annual &quot\;World Famous Civil War Trivia&quot\; at 7pm Wednesday\, Nov. 17\, at the Sherman House Museum. The walls of the historic Sherman home will ring with laughter during this lighthearted trivia contest led by Roundtable President BIll Brubach. The event is open to all. Admission is $5. Refreshments first and then guests will be divided into teams.
LOCATION:Sherman House Museum\, 137 E. Main St.\, Lancaster\, OH
UID:e.3121.736
SEQUENCE:3
DTSTAMP:20260420T042216Z
URL:https://business.lancoc.org/events/details/world-famous-civil-war-trivia-736
END:VEVENT

END:VCALENDAR
