BEGIN:VCALENDAR
VERSION:2.0
PRODID:-//ChamberMaster//Event Calendar 2.0//EN
METHOD:PUBLISH
X-PUBLISHED-TTL:P3D
REFRESH-INTERVAL:P3D
CALSCALE:GREGORIAN
BEGIN:VEVENT
DTSTART:20200125T110000Z
DTEND:20200126T030000Z
X-MICROSOFT-CDO-ALLDAYEVENT:FALSE
SUMMARY:Winterfest at Buckeye Lake Winery
DESCRIPTION:The annual Buckeye Lake Winterfest begins at 6am on the 25th of January! Benny the Bass determines the fate of spring on the lake for 2020! Groundhogs just aren't trustworthy with this monumental task. Are you ready for fireworks at dawn? Our patio is a perfect viewing spot. Bloody Mary's and mimosas will be flowing early! Breakfast buffet available early. Shawn Stewart Duo kicks off the festivities Friday night at 6pm\, fireworks Saturday morning at dawn\, Annual Music Showdown with 9 artists starts at 11 and lasts until 4\, Rock This Way plays from 5p until 9p. Tap Takeover and beer truck from Taft Brewing and Heidelberg Distributors. Heidelburg will be donating $1 to the United Way for every beer sold weekend during Winterfest. Beers on tap will be: Gustav- Multiple award winning lager\, features notes of light honey\, balanced with a toasty finish\, Winter Nellie\, an American wheat ale brewed with sweet orange peel and freshly ground coriander\, Gavel Banger IPA\, an American IPA thats bready and dried with heaps of Amarillo\, Citra\, and Simcoe hops. Juicy\, hoppy justice. Come out to the lake and join all the businesses in the huge day of fun! POLAR PLUNGE FOR THE UNITED WAY ON SUNDAY
X-ALT-DESC;FMTTYPE=text/html:The annual Buckeye Lake Winterfest begins at 6am on the 25th of January! Benny the Bass determines the fate of spring on the lake for 2020! Groundhogs just aren&#39\;t trustworthy with this monumental task. Are you ready for fireworks at dawn? Our patio is a perfect viewing spot. Bloody Mary&#39\;s and mimosas will be flowing early! Breakfast buffet available early. Shawn Stewart Duo kicks off the festivities Friday night at 6pm\, fireworks Saturday morning at dawn\, Annual Music Showdown with 9 artists starts at 11 and lasts until 4\, Rock This Way plays from 5p until 9p. Tap Takeover and beer truck from Taft Brewing and Heidelberg Distributors. Heidelburg will be donating $1 to the United Way for every beer sold weekend during Winterfest. Beers on tap will be: Gustav- Multiple award winning lager\, features notes of light honey\, balanced with a toasty finish\, Winter Nellie\, an American wheat ale brewed with sweet orange peel and freshly ground coriander\, Gavel Banger IPA\, an American IPA thats bready and dried with heaps of Amarillo\, Citra\, and Simcoe hops. Juicy\, hoppy justice. Come out to the lake and join all the businesses in the huge day of fun! POLAR PLUNGE FOR THE UNITED WAY ON SUNDAY
LOCATION:Buckeye Lake Winery 13750 Rosewood Road NE Thornville\,Ohio 43076
UID:e.3121.405
SEQUENCE:3
DTSTAMP:20260423T224333Z
URL:https://business.lancoc.org/events/details/winterfest-at-buckeye-lake-winery-405
END:VEVENT

END:VCALENDAR
