BEGIN:VCALENDAR
VERSION:2.0
PRODID:-//ChamberMaster//Event Calendar 2.0//EN
METHOD:PUBLISH
X-PUBLISHED-TTL:P3D
REFRESH-INTERVAL:P3D
CALSCALE:GREGORIAN
BEGIN:VEVENT
DTSTART:20200129T213000Z
DTEND:20200129T213000Z
X-MICROSOFT-CDO-ALLDAYEVENT:FALSE
SUMMARY:Wendel's Diamond Jewelers- Ribbon Cutting - New Location
DESCRIPTION:Ribbon Cutting-New Location\n\n\n\nWendel's Diamond Jewelers
X-ALT-DESC;FMTTYPE=text/html:Ribbon Cutting-New Location<br />\n<br />\nWendel&#39\;s Diamond Jewelers
LOCATION:164 W. Main Street Lancaster\, Ohio 43130
UID:e.3121.410
SEQUENCE:3
DTSTAMP:20260423T191940Z
URL:https://business.lancoc.org/events/details/wendel-s-diamond-jewelers-ribbon-cutting-new-location-410
END:VEVENT

END:VCALENDAR
