BEGIN:VCALENDAR
VERSION:2.0
PRODID:-//ChamberMaster//Event Calendar 2.0//EN
METHOD:PUBLISH
X-PUBLISHED-TTL:P3D
REFRESH-INTERVAL:P3D
CALSCALE:GREGORIAN
BEGIN:VEVENT
DTSTART:20260521T190000Z
DTEND:20260521T193000Z
X-MICROSOFT-CDO-ALLDAYEVENT:FALSE
SUMMARY:Visit Fairfield County Grand Opening of Buckeye Lake Welcome Center Ribbon Cutting
DESCRIPTION:Visit Fairfield County is celebrating the Grand Opening of the Buckeye Lake Welcome Center on Thursday\, May 21 at 3:00 p.m.!
X-ALT-DESC;FMTTYPE=text/html:<div class="xdj266r x14z9mp xat24cr x1lziwak x1vvkbs" style="overflow-wrap: break-word\; margin-inline: 0px\; margin-bottom: 0px\; margin-top: 0px\; font-family: &quot\;Segoe UI Historic&quot\;\, &quot\;Segoe UI&quot\;\, Helvetica\, Arial\, sans-serif\; color: rgb(8\, 8\, 9)\; font-size: 15px\;">Visit Fairfield County is celebrating the&nbsp\;Grand Opening of the&nbsp\;Buckeye Lake Welcome Center&nbsp\;on Thursday\, May 21&nbsp\;at 3:00 p.m.!&nbsp\;</div>\n\n<div class="x14z9mp xat24cr x1lziwak x1vvkbs xtlvy1s" style="overflow-wrap: break-word\; margin-top: 0.5em\; margin-inline: 0px\; margin-bottom: 0px\; font-family: &quot\;Segoe UI Historic&quot\;\, &quot\;Segoe UI&quot\;\, Helvetica\, Arial\, sans-serif\; color: rgb(8\, 8\, 9)\; font-size: 15px\;">&nbsp\;</div>\n<br />\n&nbsp\;<br />\n&nbsp\;
LOCATION:4894 Walnut Road Buckeye Lake
UID:e.3121.1301
SEQUENCE:3
DTSTAMP:20260422T182907Z
URL:https://business.lancoc.org/events/details/visit-fairfield-county-grand-opening-of-buckeye-lake-welcome-center-ribbon-cutting-1301
END:VEVENT

END:VCALENDAR
