BEGIN:VCALENDAR
VERSION:2.0
PRODID:-//ChamberMaster//Event Calendar 2.0//EN
METHOD:PUBLISH
X-PUBLISHED-TTL:P3D
REFRESH-INTERVAL:P3D
CALSCALE:GREGORIAN
BEGIN:VEVENT
DTSTART:20211022T223000Z
DTEND:20211023T010000Z
X-MICROSOFT-CDO-ALLDAYEVENT:FALSE
SUMMARY:Victorian Halloween Party\, Fairfield County Heritage Association
DESCRIPTION:This Event is Currently Sold Out\nYou'll have a hauntingly good time at Fairfield Heritage's Victorian Halloween Party at the Georgian Museum. Meet the residents who passed on while staying in this grand old house. Tarot card & psychic readings available. Victorian costume party dress welcomed but not required. $35. Light refreshments. Very limited seating. Tickets on sale at 9am\, Sept. 1 for Fairfield Heritage members. Any remaining tickets go on sale to the public Sept. 2.
X-ALT-DESC;FMTTYPE=text/html:<div style="text-align: center\;"><span style="color:#FF0000\;"><em>This Event is Currently Sold Out</em></span></div>\nYou&rsquo\;ll have a hauntingly good time at Fairfield Heritage&rsquo\;s Victorian Halloween Party at the Georgian Museum. Meet the residents who passed on while staying in this grand old house. Tarot card &amp\; psychic readings available. Victorian costume party dress welcomed but not required. $35. Light refreshments. Very limited seating. Tickets on sale at 9am\, Sept. 1 for Fairfield Heritage members. Any remaining tickets go on sale to the public Sept. 2.
LOCATION:The Georgian Museum\, 105 E. Wheeling St.\, Lancaster\, OH
UID:e.3121.646
SEQUENCE:3
DTSTAMP:20260420T074817Z
URL:https://business.lancoc.org/events/details/victorian-halloween-party-fairfield-county-heritage-association-646
END:VEVENT

END:VCALENDAR
