BEGIN:VCALENDAR
VERSION:2.0
PRODID:-//ChamberMaster//Event Calendar 2.0//EN
METHOD:PUBLISH
X-PUBLISHED-TTL:P3D
REFRESH-INTERVAL:P3D
CALSCALE:GREGORIAN
BEGIN:VEVENT
DTSTART:20191018T230000Z
DTEND:20191019T010000Z
X-MICROSOFT-CDO-ALLDAYEVENT:FALSE
SUMMARY:Victorian Halloween Party
DESCRIPTION:Have you gotten your tickets yet?\n\nWe have a psychic and a tarot card reader lined up.\n\nRefreshments will be served.\n\nA fun night for sure. . Spend a few hours in the Maccracken house.
X-ALT-DESC;FMTTYPE=text/html:Have you gotten your tickets yet?<br />\nWe have a psychic and a tarot card reader lined up.<br />\nRefreshments will be served.<br />\nA fun night for sure. . Spend a few hours in the Maccracken house.&nbsp\;
LOCATION:The Georgian Museum 105 E. Wheeling Street Lancaster\, Ohio 43130
UID:e.3121.357
SEQUENCE:3
DTSTAMP:20260424T005943Z
URL:https://business.lancoc.org/events/details/victorian-halloween-party-357
END:VEVENT

END:VCALENDAR
