BEGIN:VCALENDAR
VERSION:2.0
PRODID:-//ChamberMaster//Event Calendar 2.0//EN
METHOD:PUBLISH
X-PUBLISHED-TTL:P3D
REFRESH-INTERVAL:P3D
CALSCALE:GREGORIAN
BEGIN:VEVENT
DTSTART:20191006T180000Z
DTEND:20191006T190000Z
X-MICROSOFT-CDO-ALLDAYEVENT:FALSE
SUMMARY:Victoria Woodhull: Queen Victoria or Mrs. Satan?
DESCRIPTION:Judith Dann\, Professor of Humanities at Columbus State Community College\, will explore the life of Victoria Woodhull and the adversity she overcame to be the first woman US Presidential candidate in 1872. We will discuss other firsts that this great lady from central Ohio achieved and will look at some of her ideological platforms. Reviled by some\, revered by others\, we will focus on popular perception of this controversial woman.
X-ALT-DESC;FMTTYPE=text/html:Judith Dann\, Professor of Humanities at Columbus State Community College\, will explore the life of Victoria Woodhull and the adversity she overcame to be the first woman US Presidential candidate in 1872. We will discuss other firsts that this great lady from central Ohio achieved and will look at some of her ideological platforms. Reviled by some\, revered by others\, we will focus on popular perception of this controversial woman.
LOCATION:Decorative Arts Center of Ohio 145 E Main St Lancaster\, Ohio 43130
UID:e.3121.337
SEQUENCE:3
DTSTAMP:20260424T064020Z
URL:https://business.lancoc.org/events/details/victoria-woodhull-queen-victoria-or-mrs-satan-337
END:VEVENT

END:VCALENDAR
