BEGIN:VCALENDAR
VERSION:2.0
PRODID:-//ChamberMaster//Event Calendar 2.0//EN
METHOD:PUBLISH
X-PUBLISHED-TTL:P3D
REFRESH-INTERVAL:P3D
CALSCALE:GREGORIAN
BEGIN:VEVENT
DTSTART;VALUE=DATE:20210609
DTEND;VALUE=DATE:20210614
TRANSP:TRANSPARENT
X-MICROSOFT-CDO-ALLDAYEVENT:TRUE
SUMMARY:Victoria Opera House's Opera House Hustle 5k/10k
DESCRIPTION:The Baltimore Downtown Restoration Committee is sponsoring our first virtual 5k/10k. All of the proceeds will go towards the renovation of Baltimore's historic Victoria Opera House. Run or Walk a 5k or 10k any time between 6/9 - 6/13 and submit your results. This event coincides with the Baltimore Community Yard Sale. Get your 5k/10k in between sales\, run the suggested Baltimore 5k route\, or make up your own! It's a good reason to get moving for a great cause!
X-ALT-DESC;FMTTYPE=text/html:<span style="color: rgb(85\, 85\, 85)\; font-family: Roboto\, &quot\;Helvetica Neue&quot\;\, Helvetica\, sans-serif\; font-size: 16.8px\; background-color: rgb(255\, 255\, 255)\;">The Baltimore Downtown Restoration Committee is sponsoring our first virtual 5k/10k. All of the proceeds will go towards the renovation of Baltimore&#39\;s historic Victoria Opera House. Run or Walk a 5k or 10k any time between 6/9 - 6/13 and submit your results. This event coincides with the Baltimore Community Yard Sale. Get your 5k/10k in between sales\, run the suggested Baltimore 5k route\, or make up your own! It&#39\;s a good reason to get moving for a great cause!</span>
LOCATION:Virtual Race
UID:e.3121.573
SEQUENCE:3
DTSTAMP:20260422T145143Z
URL:https://business.lancoc.org/events/details/victoria-opera-house-s-opera-house-hustle-5k-10k-573
END:VEVENT

END:VCALENDAR
