BEGIN:VCALENDAR
VERSION:2.0
PRODID:-//ChamberMaster//Event Calendar 2.0//EN
METHOD:PUBLISH
X-PUBLISHED-TTL:P3D
REFRESH-INTERVAL:P3D
CALSCALE:GREGORIAN
BEGIN:VEVENT
DTSTART:20210711T190000Z
DTEND:20210711T200000Z
X-MICROSOFT-CDO-ALLDAYEVENT:FALSE
SUMMARY:Victoria Opera House presents the Nostalgics\, big band & swing
DESCRIPTION:The Victoria Opera House presents The Nostalgics big band & swing July 11 at 3 PM. Tickets $5 at www.baltimoredowntownrestoration.com\n\nSwinging music for discerning ears!
X-ALT-DESC;FMTTYPE=text/html:<span style="color: rgb(32\, 31\, 30)\; font-family: tahoma\, sans-serif\; font-size: 15px\; background-color: rgb(255\, 255\, 255)\;">The Victoria Opera House presents The Nostalgics big band &amp\; swing July 11 at 3 PM. Tickets $5 at&nbsp\;</span><a data-auth="NotApplicable" data-linkindex="0" href="http://www.baltimoredowntownrestoration.com/" id="LPlnk979176" rel="noopener noreferrer" style="margin: 0px\; padding: 0px\; border: 0px\; font-variant-numeric: inherit\; font-variant-east-asian: inherit\; font-stretch: inherit\; font-size: 15px\; line-height: inherit\; font-family: tahoma\, sans-serif\; vertical-align: baseline\; background-color: rgb(255\, 255\, 255)\;" target="_blank">www.baltimoredowntownrestoration.com</a><br />\n<span style="color: rgb(40\, 56\, 66)\; font-family: &quot\;Open Sans&quot\;\, sans-serif\; font-size: 15px\; background-color: rgb(255\, 255\, 255)\;">Swinging music for discerning ears!</span>
LOCATION:The Victoria Opera House 101 S. Main St. Baltimore\, OH 43105
UID:e.3121.611
SEQUENCE:3
DTSTAMP:20260422T110211Z
URL:https://business.lancoc.org/events/details/victoria-opera-house-presents-the-nostalgics-big-band-swing-611
END:VEVENT

END:VCALENDAR
