BEGIN:VCALENDAR
VERSION:2.0
PRODID:-//ChamberMaster//Event Calendar 2.0//EN
METHOD:PUBLISH
X-PUBLISHED-TTL:P3D
REFRESH-INTERVAL:P3D
CALSCALE:GREGORIAN
BEGIN:VEVENT
DTSTART:20211030T230000Z
DTEND:20211030T230000Z
X-MICROSOFT-CDO-ALLDAYEVENT:FALSE
SUMMARY:Victoria Opera House\, Night of the Living Dead Screening
DESCRIPTION:"Night of the Living Dead"\, the 1968 horror classic\, will be screened at the Victoria Opera House (101 S. Main St. in Baltimore) on Oct. 30 at 7 PM. Admission is just $2.00.
X-ALT-DESC;FMTTYPE=text/html:&quot\;Night of the Living Dead&quot\;\, the 1968 horror classic\, will be screened at the Victoria Opera House (101 S. Main St. in Baltimore) on Oct. 30 at 7 PM. Admission is just $2.00.
LOCATION:Victoria Opera House 101 S. Main Street Baltimore\, OH 43105
UID:e.3121.714
SEQUENCE:3
DTSTAMP:20260420T075051Z
URL:https://business.lancoc.org/events/details/victoria-opera-house-night-of-the-living-dead-screening-714
END:VEVENT

END:VCALENDAR
