BEGIN:VCALENDAR
VERSION:2.0
PRODID:-//ChamberMaster//Event Calendar 2.0//EN
METHOD:PUBLISH
X-PUBLISHED-TTL:P3D
REFRESH-INTERVAL:P3D
CALSCALE:GREGORIAN
BEGIN:VEVENT
DTSTART:20211111T170000Z
DTEND:20211111T210000Z
X-MICROSOFT-CDO-ALLDAYEVENT:FALSE
SUMMARY:Veterans Day at the Sherman House and the Georgian
DESCRIPTION:In honor of Veterans Day\, Nov. 11\, the Sherman House Museum and the Georgian Museum will offer free admission to military veterans\, active duty service members and their families. The Sherman House gives tours at 12\, 1\, 2 & 3pm. The Georgian Museum gives tours at 1\, 2 & 3pm.
X-ALT-DESC;FMTTYPE=text/html:In honor of Veterans Day\, Nov. 11\, the Sherman House Museum and the Georgian Museum will offer free admission to military veterans\, active duty service members and their families. The Sherman House gives tours at 12\, 1\, 2 &amp\; 3pm. The Georgian Museum gives tours at 1\, 2 &amp\; 3pm.
LOCATION:Sherman House Museum\, 137 E. Main St.\, Lancaster\, Ohio Georgian Museum\, 105 E. Wheeling St.\, Lancaster\, Ohio
UID:e.3121.734
SEQUENCE:3
DTSTAMP:20260420T042801Z
URL:https://business.lancoc.org/events/details/veterans-day-at-the-sherman-house-and-the-georgian-734
END:VEVENT

END:VCALENDAR
