BEGIN:VCALENDAR
VERSION:2.0
PRODID:-//ChamberMaster//Event Calendar 2.0//EN
METHOD:PUBLISH
X-PUBLISHED-TTL:P3D
REFRESH-INTERVAL:P3D
CALSCALE:GREGORIAN
BEGIN:VEVENT
DTSTART:20210214T180000Z
DTEND:20210214T200000Z
X-MICROSOFT-CDO-ALLDAYEVENT:FALSE
SUMMARY:Valentine Tea to Go
DESCRIPTION:Order your tickets now for our Valentine Tea to Go! For a $20 ticket you'll receive a decorated box of Georgian Museum-style treats and a hot cup of tea. A lovely way to celebrate Valentine's Day. Pick your order up in our special drive-thru behind the Georgian Museum. Or we will deliver it to you anywhere in Fairfield County for $5. Tickets are limited. Reservations due by Feb. 8. Proceeds benefit the Fairfield County Heritage Association\, which owns and operates the Georgian Museum and the Sherman House Museum. Its mission is to connect all people to the rich history of Fairfield County.
X-ALT-DESC;FMTTYPE=text/html:Order your tickets now for our Valentine Tea to Go! For a $20 ticket you&#39\;ll receive a decorated box of Georgian Museum-style treats and a hot cup of tea. A lovely way to celebrate Valentine&#39\;s Day. Pick your order up in our special drive-thru behind the Georgian Museum. Or we will deliver it to you anywhere in Fairfield County for $5. Tickets are limited. <span style="color:#0000FF\;"><strong>Reservations due by Feb. 8. </strong></span>Proceeds benefit the Fairfield County Heritage Association\, which owns and operates the Georgian Museum and the Sherman House Museum. Its mission is to connect all people to the rich history of Fairfield County.
LOCATION:Behind the Georgian Museum\, 105 E. Wheeling St.\, Lancaster\, Ohio
UID:e.3121.488
SEQUENCE:3
DTSTAMP:20260422T220818Z
URL:https://business.lancoc.org/events/details/valentine-tea-to-go-488
END:VEVENT

END:VCALENDAR
