BEGIN:VCALENDAR
VERSION:2.0
PRODID:-//ChamberMaster//Event Calendar 2.0//EN
METHOD:PUBLISH
X-PUBLISHED-TTL:P3D
REFRESH-INTERVAL:P3D
CALSCALE:GREGORIAN
BEGIN:VEVENT
DTSTART:20210909T114500Z
DTEND:20210909T114500Z
X-MICROSOFT-CDO-ALLDAYEVENT:FALSE
SUMMARY:United Way of Fairfield County\, Community Care Day
DESCRIPTION:Community Care Day will begin at 7:45 AM on Thursday\, September 9th at United Way's kickoff breakfast at the Fairfield County Fairgrounds.\n\nThis one-day event offers volunteers a first-hand experience with the needs in our community and an opportunity to have a positive impact on the lives of people in need.\n\nIf you would like to be a part of this effort or would like additional information regarding Community Care Day\, please stop by the United Way office at 115 S. Broad Street or contact Andrea Spires at (740) 653-0643 or aspires@uwayfairfieldco.org or sign up online at https://forms.gle/o5x7aGjF31hCEoPe7.
X-ALT-DESC;FMTTYPE=text/html:<p>Community Care Day will begin at 7:45 AM on Thursday\, September 9th at United Way&rsquo\;s kickoff breakfast at the Fairfield County Fairgrounds.</p>\n\n<p>This one-day event offers volunteers a first-hand experience with the needs in our community and an opportunity to have a positive impact on the lives of people in need.</p>\n\n<p>If you would like to be a part of this effort or would like additional information regarding Community Care Day\, please stop by the United Way office at 115 S. Broad Street or contact Andrea Spires at (740) 653-0643 or <a href="mailto:aspires@uwayfairfieldco.org">aspires@uwayfairfieldco.org</a> or sign up online at <a href="https://forms.gle/o5x7aGjF31hCEoPe7">https://forms.gle/o5x7aGjF31hCEoPe7</a>.</p>\n
LOCATION:Kickoff Breakfast Begins at the Fairfield County Fairgrounds in Lancaster.
UID:e.3121.665
SEQUENCE:3
DTSTAMP:20260420T072803Z
URL:https://business.lancoc.org/events/details/united-way-of-fairfield-county-community-care-day-665
END:VEVENT

END:VCALENDAR
