BEGIN:VCALENDAR
VERSION:2.0
PRODID:-//ChamberMaster//Event Calendar 2.0//EN
METHOD:PUBLISH
X-PUBLISHED-TTL:P3D
REFRESH-INTERVAL:P3D
CALSCALE:GREGORIAN
BEGIN:VEVENT
DTSTART:20211113T133000Z
DTEND:20211113T133000Z
X-MICROSOFT-CDO-ALLDAYEVENT:FALSE
SUMMARY:United Way of Fairfield County\, 23rd Annual 5K
DESCRIPTION:Join the United Way of Fairfield County at their\n\n23rd Annual 5K!\n\n\nClick HERE for a Registration Form\n\nClick HERE for a Volunteer Form\n\n\n\nPlease Register by November 1st
X-ALT-DESC;FMTTYPE=text/html:<div style="text-align: center\;"><span style="font-size:16px\;"><strong>Join the United Way of Fairfield County at their<br />\n23rd Annual 5K!</strong></span></div>\n<br />\n<span style="font-size:16px\;"><span style="font-size:14px\;">Click <a href="https://chambermaster.blob.core.windows.net/userfiles/UserFiles/chambers/3121/File/5KRegistration.pdf">HERE </a>for a Registration Form</span><br />\n<span style="font-size:14px\;">Click <a href="https://chambermaster.blob.core.windows.net/userfiles/UserFiles/chambers/3121/File/5KVolunteersNeeded.pdf">HERE</a> for a Volunteer Form</span></span><br />\n<br />\nPlease Register by November 1st&nbsp\;
LOCATION:Fairfield County Fairgrounds 157 E Fair Ave\, Lancaster\, OH 43130
UID:e.3121.711
SEQUENCE:3
DTSTAMP:20260420T060100Z
URL:https://business.lancoc.org/events/details/united-way-of-fairfield-county-23rd-annual-5k-711
END:VEVENT

END:VCALENDAR
