BEGIN:VCALENDAR
VERSION:2.0
PRODID:-//ChamberMaster//Event Calendar 2.0//EN
METHOD:PUBLISH
X-PUBLISHED-TTL:P3D
REFRESH-INTERVAL:P3D
CALSCALE:GREGORIAN
BEGIN:VEVENT
DTSTART:20180621T130000Z
DTEND:20180621T160000Z
X-MICROSOFT-CDO-ALLDAYEVENT:FALSE
SUMMARY:United Way Day of Action
DESCRIPTION:United Way Day of Action
X-ALT-DESC;FMTTYPE=text/html:United Way Day of Action
LOCATION:Fountain Square Downtown Lancaster
UID:e.3121.19
SEQUENCE:3
DTSTAMP:20260425T105848Z
URL:https://business.lancoc.org/events/details/united-way-day-of-action-19
END:VEVENT

END:VCALENDAR
