BEGIN:VCALENDAR
VERSION:2.0
PRODID:-//ChamberMaster//Event Calendar 2.0//EN
METHOD:PUBLISH
X-PUBLISHED-TTL:P3D
REFRESH-INTERVAL:P3D
CALSCALE:GREGORIAN
BEGIN:VEVENT
DTSTART:20251209T210000Z
DTEND:20251209T213000Z
X-MICROSOFT-CDO-ALLDAYEVENT:FALSE
SUMMARY:Unified Bank - Mortgage Division Grand Opening Ribbon Cutting
DESCRIPTION:Unified Bank is celebrating their Mortgage Division Grand Opening on Tuesday\, December 9 at 4 p.m.! They will be having an open house from 3:30 p.m. to 5:30 p.m.
X-ALT-DESC;FMTTYPE=text/html:<div class="xdj266r x14z9mp xat24cr x1lziwak x1vvkbs" style="overflow-wrap: break-word\; margin-inline: 0px\; margin-bottom: 0px\; margin-top: 0px\; font-family: &quot\;Segoe UI Historic&quot\;\, &quot\;Segoe UI&quot\;\, Helvetica\, Arial\, sans-serif\; color: rgb(8\, 8\, 9)\; font-size: 15px\;">Unified Bank is celebrating their Mortgage Division Grand Opening on Tuesday\, December 9&nbsp\;at 4&nbsp\;p.m.! They will be having an open house from 3:30 p.m. to 5:30 p.m.</div>\n\n<div class="x14z9mp xat24cr x1lziwak x1vvkbs xtlvy1s" style="overflow-wrap: break-word\; margin-top: 0.5em\; margin-inline: 0px\; margin-bottom: 0px\; font-family: &quot\;Segoe UI Historic&quot\;\, &quot\;Segoe UI&quot\;\, Helvetica\, Arial\, sans-serif\; color: rgb(8\, 8\, 9)\; font-size: 15px\;">&nbsp\;</div>\n<br />\n&nbsp\;<br />\n&nbsp\;
LOCATION:201 N. Columbus Street Lancaster
UID:e.3121.1259
SEQUENCE:3
DTSTAMP:20260424T065442Z
URL:https://business.lancoc.org/events/details/unified-bank-mortgage-division-grand-opening-ribbon-cutting-1259
END:VEVENT

END:VCALENDAR
