BEGIN:VCALENDAR
VERSION:2.0
PRODID:-//ChamberMaster//Event Calendar 2.0//EN
METHOD:PUBLISH
X-PUBLISHED-TTL:P3D
REFRESH-INTERVAL:P3D
CALSCALE:GREGORIAN
BEGIN:VEVENT
DTSTART:20211029T213000Z
DTEND:20211030T003000Z
X-MICROSOFT-CDO-ALLDAYEVENT:FALSE
SUMMARY:U.S. Army Recruiting Station\, Trunk or Treat
DESCRIPTION:Join the U.S. Army Recruiting Station for a Trunk or Treat Community Event.\n\n\n\nAll ages welcome\n\nKid & pet-friendly event\n\nFun Games & Prizes\n\nFood & Drink
X-ALT-DESC;FMTTYPE=text/html:Join the U.S. Army Recruiting Station for a Trunk or Treat Community Event.<br />\n<br />\nAll ages welcome<br />\nKid &amp\; pet-friendly event<br />\nFun Games &amp\; Prizes<br />\nFood &amp\; Drink
LOCATION:U.S. Army Recruiting Station 1532 River Valley Cir S. Lancaster\, OH 43130
UID:e.3121.700
SEQUENCE:3
DTSTAMP:20260420T055316Z
URL:https://business.lancoc.org/events/details/u-s-army-recruiting-station-trunk-or-treat-700
END:VEVENT

END:VCALENDAR
