BEGIN:VCALENDAR
VERSION:2.0
PRODID:-//ChamberMaster//Event Calendar 2.0//EN
METHOD:PUBLISH
X-PUBLISHED-TTL:P3D
REFRESH-INTERVAL:P3D
CALSCALE:GREGORIAN
BEGIN:VEVENT
DTSTART:20210520T140000Z
DTEND:20210521T200000Z
X-MICROSOFT-CDO-ALLDAYEVENT:FALSE
SUMMARY:U.S. Army Recruiting Station's Community Event
DESCRIPTION:* Experience what is it like to parachute with the Golden Knights\n\nand ride in a convoy with the Army Special Forces Simulators\n\n\n\n* Enjoy Corn Hole and Fitness Competitions for Army Swag\n\n\n\n* Come eat at local food trucks (TBD)\n\n\n\n* Come Join us and try to win some Army Items from your\n\nCommunity Army Recruiters
X-ALT-DESC;FMTTYPE=text/html:* Experience what is it like to parachute with the Golden Knights<br />\nand ride in a convoy with the Army Special Forces Simulators<br />\n<br />\n* Enjoy Corn Hole and Fitness Competitions for Army Swag<br />\n<br />\n* Come eat at local food trucks (TBD)<br />\n<br />\n* Come Join us and try to win some Army Items from your<br />\nCommunity Army Recruiters
LOCATION:Ohio University Lancaster 1570 Granville Pike\, Lancaster\, OH
UID:e.3121.581
SEQUENCE:3
DTSTAMP:20260422T144743Z
URL:https://business.lancoc.org/events/details/u-s-army-recruiting-station-s-community-event-581
END:VEVENT

END:VCALENDAR
