BEGIN:VCALENDAR
VERSION:2.0
PRODID:-//ChamberMaster//Event Calendar 2.0//EN
METHOD:PUBLISH
X-PUBLISHED-TTL:P3D
REFRESH-INTERVAL:P3D
CALSCALE:GREGORIAN
BEGIN:VEVENT
DTSTART:20200718T170000Z
DTEND:20200718T190000Z
X-MICROSOFT-CDO-ALLDAYEVENT:FALSE
SUMMARY:Tie-Dye Workshop
DESCRIPTION:Saturday\, July 18 1:00-3:00 pm Ages 9-16 $35/$30 member Lisa Schorr\, Dallas Rienschield\, instructors Using basic tie-dye techniques\, students will make a one-of-a-kind piece of wearable art. Please provide shirt size when registering.
X-ALT-DESC;FMTTYPE=text/html:Saturday\, July 18 1:00-3:00 pm Ages 9-16 $35/$30 member Lisa Schorr\, Dallas Rienschield\, instructors Using basic tie-dye techniques\, students will make a one-of-a-kind piece of wearable art. Please provide shirt size when registering.
LOCATION:Wendel Center for Art Education at the Decorative Arts Center of Ohio 145 E Main St Lancaster\, Ohio 43130
UID:e.3121.459
SEQUENCE:3
DTSTAMP:20260423T104536Z
URL:https://business.lancoc.org/events/details/tie-dye-workshop-459
END:VEVENT

END:VCALENDAR
