BEGIN:VCALENDAR
VERSION:2.0
PRODID:-//ChamberMaster//Event Calendar 2.0//EN
METHOD:PUBLISH
X-PUBLISHED-TTL:P3D
REFRESH-INTERVAL:P3D
CALSCALE:GREGORIAN
BEGIN:VEVENT
DTSTART:20200829T170000Z
DTEND:20200829T190000Z
X-MICROSOFT-CDO-ALLDAYEVENT:FALSE
SUMMARY:Tie- Dye Workshop
DESCRIPTION:Saturday\, August 29 1:00-3:00 pm\n\nAges 9-16\n\n$35/$30 member\n\nLisa Schorr\, Dallas Rienschield\, instructors\n\nUsing basic tie-dye techniques\, students will make a one-of-a-kind piece of wearable art.\n\nPlease provide shirt size when registering.
X-ALT-DESC;FMTTYPE=text/html:Saturday\, August 29 1:00-3:00 pm<br />\nAges 9-16<br />\n$35/$30 member<br />\nLisa Schorr\, Dallas Rienschield\, instructors<br />\nUsing basic tie-dye techniques\, students will make a one-of-a-kind piece of wearable art.<br />\nPlease provide shirt size when registering.
LOCATION:Wendel Center for Art Education 145 E Main St\, Lancaster\, Ohio 43130
UID:e.3121.468
SEQUENCE:3
DTSTAMP:20260423T104703Z
URL:https://business.lancoc.org/events/details/tie-dye-workshop-08-29-2020-468
END:VEVENT

END:VCALENDAR
