BEGIN:VCALENDAR
VERSION:2.0
PRODID:-//ChamberMaster//Event Calendar 2.0//EN
METHOD:PUBLISH
X-PUBLISHED-TTL:P3D
REFRESH-INTERVAL:P3D
CALSCALE:GREGORIAN
BEGIN:VEVENT
DTSTART:20191020T180000Z
DTEND:20191020T190000Z
X-MICROSOFT-CDO-ALLDAYEVENT:FALSE
SUMMARY:Three Very Modern First Ladies
DESCRIPTION:Lucy Webb Hayes\, Helen 'Nellie' Herron Taft\, and Florence Kling Harding were three extraordinary women who shaped the role of First Lady. Our discussion panel will include Christie Weinger\, Executive Director of the Rutherford B. Hayes Presidential Center\; Sherry Hall\, The Harding Home\; and Governor Robert Taft. ?
X-ALT-DESC;FMTTYPE=text/html:Lucy Webb Hayes\, Helen &#39\;Nellie&#39\; Herron Taft\, and Florence Kling Harding were three extraordinary women who shaped the role of First Lady. Our discussion panel will include Christie Weinger\, Executive Director of the Rutherford B. Hayes Presidential Center\; Sherry Hall\, The Harding Home\; and Governor Robert Taft. ?
LOCATION:Join The Decorative Arts Center for this event being held at: First United Methodist Church 163 E Wheeling St Lancaster\, Ohio 43130 event sponsored by The Decorative Arts Center
UID:e.3121.338
SEQUENCE:3
DTSTAMP:20260424T043121Z
URL:https://business.lancoc.org/events/details/three-very-modern-first-ladies-338
END:VEVENT

END:VCALENDAR
