BEGIN:VCALENDAR
VERSION:2.0
PRODID:-//ChamberMaster//Event Calendar 2.0//EN
METHOD:PUBLISH
X-PUBLISHED-TTL:P3D
REFRESH-INTERVAL:P3D
CALSCALE:GREGORIAN
BEGIN:VEVENT
DTSTART:20191010T210000Z
DTEND:20191011T000000Z
X-MICROSOFT-CDO-ALLDAYEVENT:FALSE
SUMMARY:Thirsty Thursday Happy Hour at RockSide Winery
DESCRIPTION:Weekly every Thursday from December 27th\, 2018 through October 24th\, 2019. Looking for the happiest hours out there? We think making it to Thursday is reason enough to celebrate! Stop by after work for $1.50 off glasses of wine and 50% off a variety of small appetizers including Bread and Dipping Oil\, Cheese\, Fruit and Italian Meat plates\, Hummus served with Fresh Vegetables and a delicious Antipasto Plate. Local craft beer is also available on tap for those who do not prefer wine for $4.50/16oz glass! Happy Hours from 5-8pm every Thursday. We look forward to having you! No reservations are required. For more information please call (740) 687-4414 or visit us on the web www.RockSideWinery.com for a full list of our events!
X-ALT-DESC;FMTTYPE=text/html:Weekly every Thursday from December 27th\, 2018 through October 24th\, 2019. Looking for the happiest hours out there? We think making it to Thursday is reason enough to celebrate! Stop by after work for $1.50 off glasses of wine and 50% off a variety of small appetizers including Bread and Dipping Oil\, Cheese\, Fruit and Italian Meat plates\, Hummus served with Fresh Vegetables and a delicious Antipasto Plate. Local craft beer is also available on tap for those who do not prefer wine for $4.50/16oz glass! Happy Hours from 5-8pm every Thursday. We look forward to having you! No reservations are required. For more information please call (740) 687-4414 or visit us on the web www.RockSideWinery.com for a full list of our events!
LOCATION:Rockside Vineyards 2363 Lancaster Newark Rd NE Lancaster\, Ohio 43130 United States
UID:e.3121.152
SEQUENCE:3
DTSTAMP:20260424T043402Z
URL:https://business.lancoc.org/events/details/thirsty-thursday-happy-hour-at-rockside-winery-10-10-2019-152
END:VEVENT

END:VCALENDAR
