BEGIN:VCALENDAR
VERSION:2.0
PRODID:-//ChamberMaster//Event Calendar 2.0//EN
METHOD:PUBLISH
X-PUBLISHED-TTL:P3D
REFRESH-INTERVAL:P3D
CALSCALE:GREGORIAN
BEGIN:VEVENT
DTSTART:20210618T130000Z
DTEND:20210618T160000Z
X-MICROSOFT-CDO-ALLDAYEVENT:FALSE
SUMMARY:The United Way of Fairfield County's Day of Action
DESCRIPTION:On site COVID-19 Vaccine Clinic being held by the United Way and Big/Brothers Sisters through Fairfield Medical Center\n\n\n\nOther Activities include:\n\n	The Works: Take-home STEM Kits\n	Alley Park Animal Friends \n	Electric Safety Demonstration\n	Bike Helmet Giveaway \n	Kona Ice \n	FreeChee Trailer \n	Fitness Activities \n	Educational Information\n	Balloon Twisting \n	Giant Parachute \n	Music \n	Games\n\nAnyone who is interested for volunteering at this event may contact aspires@uwayfairfieldco.org or bcraft@uwayfairfieldco.org.\n\n\n\nPhotos taken at this event may be used by United Way of Fairfield County in social media and other publications. Covid-19 precautions and guidelines will be followed during this event to ensure the safety of the public.
X-ALT-DESC;FMTTYPE=text/html:On site COVID-19 Vaccine Clinic being held by the United Way and Big/Brothers Sisters through Fairfield Medical Center<br />\n<br />\n<strong>Other Activities include:</strong>\n<ul>\n	<li>The Works: Take-home STEM Kits</li>\n	<li>Alley Park Animal Friends&nbsp\;</li>\n	<li>Electric Safety Demonstration</li>\n	<li>Bike Helmet Giveaway&nbsp\;</li>\n	<li>Kona Ice&nbsp\;</li>\n	<li>FreeChee Trailer&nbsp\;</li>\n	<li>Fitness Activities&nbsp\;</li>\n	<li>Educational Information</li>\n	<li>Balloon Twisting&nbsp\;</li>\n	<li>Giant Parachute&nbsp\;</li>\n	<li>Music&nbsp\;</li>\n	<li>Games</li>\n</ul>\nAnyone who is interested for volunteering at this event may contact&nbsp\;<a href="mailto:aspires@uwayfairfieldco.org">aspires@uwayfairfieldco.org</a>&nbsp\;or&nbsp\;<a data-auth="NotApplicable" data-linkindex="0" href="mailto:bcraft@uwayfairfieldco.org" rel="noopener noreferrer" style="margin: 0px\; padding: 0px\; border: 0px\; font-variant-numeric: inherit\; font-variant-east-asian: inherit\; font-stretch: inherit\; font-size: 14.6667px\; line-height: inherit\; font-family: Calibri\, sans-serif\; vertical-align: baseline\; outline: 0px\; background-color: rgb(255\, 255\, 255)\;" target="_blank">bcraft@uwayfairfieldco.org</a><span style="color: rgb(32\, 31\, 30)\; font-family: Calibri\, sans-serif\; font-size: 14.6667px\; background-color: rgb(255\, 255\, 255)\;">.</span><br />\n<br />\n<em>Photos taken at this event may be used by United Way of Fairfield County in social media and other publications. Covid-19 precautions and guidelines will be followed during this event to ensure the safety of the public.</em>
LOCATION:Downtown Lancaster - Fountain Square
UID:e.3121.587
SEQUENCE:3
DTSTAMP:20260422T130109Z
URL:https://business.lancoc.org/events/details/the-united-way-of-fairfield-county-s-day-of-action-587
END:VEVENT

END:VCALENDAR
