BEGIN:VCALENDAR
VERSION:2.0
PRODID:-//ChamberMaster//Event Calendar 2.0//EN
METHOD:PUBLISH
X-PUBLISHED-TTL:P3D
REFRESH-INTERVAL:P3D
CALSCALE:GREGORIAN
BEGIN:VEVENT
DTSTART:20200809T170000Z
DTEND:20200809T190000Z
X-MICROSOFT-CDO-ALLDAYEVENT:FALSE
SUMMARY:The Sound of Music
DESCRIPTION:The final collaboration between Richard Rodgers & Oscar Hammerstein was destined to become the world's most beloved musical. When a postulant proves too high-spirited for the religious life\, she is dispatched to serve as governess for the seven children of a widowed naval Captain.
X-ALT-DESC;FMTTYPE=text/html:The final collaboration between Richard Rodgers &amp\; Oscar Hammerstein was destined to become the world&#39\;s most beloved musical. When a postulant proves too high-spirited for the religious life\, she is dispatched to serve as governess for the seven children of a widowed naval Captain.
LOCATION:Ohio University Lancaster Theatre 1570 Granville Pike\, Lancaster\, Ohio
UID:e.3121.432
SEQUENCE:3
DTSTAMP:20260423T105054Z
URL:https://business.lancoc.org/events/details/the-sound-of-music-432
END:VEVENT

END:VCALENDAR
