BEGIN:VCALENDAR
VERSION:2.0
PRODID:-//ChamberMaster//Event Calendar 2.0//EN
METHOD:PUBLISH
X-PUBLISHED-TTL:P3D
REFRESH-INTERVAL:P3D
CALSCALE:GREGORIAN
BEGIN:VEVENT
DTSTART:20191026T180000Z
DTEND:20191026T200000Z
X-MICROSOFT-CDO-ALLDAYEVENT:FALSE
SUMMARY:The Lancaster Playhouse Presents The Canterville Ghost by John Vreeke
DESCRIPTION:A family friendly tale of mystery\, chills and humor. It's 1887 and a free-spirited American family is invading the grand English manor home of a very British Lord\, an actor turned ghost\, determined to scare these Yankee intruders out of their wits and out of his house. Both you and they have been warned! Cheerio!! Sponsored by Fairfield National Bank Division of The Park National Bank.
X-ALT-DESC;FMTTYPE=text/html:A family friendly tale of mystery\, chills and humor. It&#39\;s 1887 and a free-spirited American family is invading the grand English manor home of a very British Lord\, an actor turned ghost\, determined to scare these Yankee intruders out of their wits and out of his house. Both you and they have been warned! Cheerio!! Sponsored by Fairfield National Bank Division of The Park National Bank.
LOCATION:The Wilson Building\, 2nd Floor 201 S. Broad Street Lancaster\, Ohio
UID:e.3121.362
SEQUENCE:3
DTSTAMP:20260424T043746Z
URL:https://business.lancoc.org/events/details/the-lancaster-playhouse-presents-the-canterville-ghost-by-john-vreeke-10-26-2019-362
END:VEVENT

END:VCALENDAR
