BEGIN:VCALENDAR
VERSION:2.0
PRODID:-//ChamberMaster//Event Calendar 2.0//EN
METHOD:PUBLISH
X-PUBLISHED-TTL:P3D
REFRESH-INTERVAL:P3D
CALSCALE:GREGORIAN
BEGIN:VEVENT
DTSTART:20220721T231500Z
DTEND:20220722T010000Z
X-MICROSOFT-CDO-ALLDAYEVENT:FALSE
SUMMARY:The Lancaster Festival
DESCRIPTION:Thursday July 21 Opening Night: Bravo Beethoven With the Lancaster Festival Orchestra 8:00 pm   $30 patron seating\, $25 reserved seating  Doors open following the Brass Fanfare at 7:15pm   Free parking.
X-ALT-DESC;FMTTYPE=text/html:Thursday July 21 Opening Night: Bravo Beethoven With the Lancaster Festival Orchestra 8:00 pm &bull\; $30 patron seating\, $25 reserved seating &bull\;Doors open following the Brass Fanfare at 7:15pm &bull\; Free parking.
LOCATION:St. Mary of the Assumption Church
UID:e.3121.794
SEQUENCE:3
DTSTAMP:20260424T092149Z
URL:https://business.lancoc.org/events/details/the-lancaster-festival-794
END:VEVENT

END:VCALENDAR
