BEGIN:VCALENDAR
VERSION:2.0
PRODID:-//ChamberMaster//Event Calendar 2.0//EN
METHOD:PUBLISH
X-PUBLISHED-TTL:P3D
REFRESH-INTERVAL:P3D
CALSCALE:GREGORIAN
BEGIN:VEVENT
DTSTART:20200329T180000Z
DTEND:20200329T190000Z
X-MICROSOFT-CDO-ALLDAYEVENT:FALSE
SUMMARY:The Humor of The New Yorker Magazine
DESCRIPTION:Editor Harold Ross sought a new kind of comic art when he founded The New Yorker in 1925 as a "reflection in word and picture of metropolitan life...with gaiety\, wit\, and satire\," and Barbara Shermund helped invent it. Join Judith Yaross Lee\, Ohio University Distinguished Professor Emerita of Communication Studies\, who recovered Shermund's work for modern audiences in writing "Defining The New Yorker Humor". Learn how the covers\, spot drawings\, and cartoons by Shermund and her contemporaries brought Ross's editorial vision to life.
X-ALT-DESC;FMTTYPE=text/html:Editor Harold Ross sought a new kind of comic art when he founded The New Yorker in 1925 as a &quot\;reflection in word and picture of metropolitan life...with gaiety\, wit\, and satire\,&quot\; and Barbara Shermund helped invent it. Join Judith Yaross Lee\, Ohio University Distinguished Professor Emerita of Communication Studies\, who recovered Shermund&#39\;s work for modern audiences in writing &quot\;Defining The New Yorker Humor&quot\;. Learn how the covers\, spot drawings\, and cartoons by Shermund and her contemporaries brought Ross&#39\;s editorial vision to life.
LOCATION:Decorative Arts Center of Ohio 145 E Main Street Lancaster\, Ohio 43130
UID:e.3121.396
SEQUENCE:3
DTSTAMP:20260423T211344Z
URL:https://business.lancoc.org/events/details/the-humor-of-the-new-yorker-magazine-396
END:VEVENT

END:VCALENDAR
