BEGIN:VCALENDAR
VERSION:2.0
PRODID:-//ChamberMaster//Event Calendar 2.0//EN
METHOD:PUBLISH
X-PUBLISHED-TTL:P3D
REFRESH-INTERVAL:P3D
CALSCALE:GREGORIAN
BEGIN:VEVENT
DTSTART:20210616T230000Z
DTEND:20210616T230000Z
X-MICROSOFT-CDO-ALLDAYEVENT:FALSE
SUMMARY:The Fairfield County Heritage Association/ Sherman House presents Civil War Herb Lady of Ohio
DESCRIPTION:Roundtable explores use of herbs in Civil War Times\n\nThe Civil War Herb Lady of Ohio is our guest speaker for the June 16 meeting of the Gen. William Tecumseh Sherman Memorial Civil War Roundtable\n\n\n\nFollow the link here to learn more: https://www.fairfieldheritage.com/Civil-War-Round-Table-Event-Schedule.html
X-ALT-DESC;FMTTYPE=text/html:Roundtable explores use of herbs in Civil War Times<br />\nThe Civil War Herb Lady of Ohio is our guest speaker for the June 16 meeting of the Gen. William Tecumseh Sherman Memorial Civil War Roundtable<br />\n<br />\nFollow the link here to learn more:&nbsp\;<a href="https://www.fairfieldheritage.com/Civil-War-Round-Table-Event-Schedule.html">https://www.fairfieldheritage.com/Civil-War-Round-Table-Event-Schedule.html</a>
LOCATION:Sherman House Museum Gardens 137 E. Main St\, Lancaster\, OH In case of rain: Fairfield Community Church\, 860 E Mulberry
UID:e.3121.597
SEQUENCE:3
DTSTAMP:20260422T130135Z
URL:https://business.lancoc.org/events/details/the-fairfield-county-heritage-association-sherman-house-presents-civil-war-herb-lady-of-ohio-597
END:VEVENT

END:VCALENDAR
