BEGIN:VCALENDAR
VERSION:2.0
PRODID:-//ChamberMaster//Event Calendar 2.0//EN
METHOD:PUBLISH
X-PUBLISHED-TTL:P3D
REFRESH-INTERVAL:P3D
CALSCALE:GREGORIAN
BEGIN:VEVENT
DTSTART;VALUE=DATE:20210708
DTEND;VALUE=DATE:20210709
TRANSP:TRANSPARENT
X-MICROSOFT-CDO-ALLDAYEVENT:TRUE
SUMMARY:The Decorative Arts Center of Ohio Class: Make your own Pillowcase\, \, Denise Wright: Instructor
DESCRIPTION:July 11 - Decorative Arts Center of Ohio Class: Make your own Pillowcase\, \, Denise Wright: Instructor\, 1   3 PM\n\n\n\n Make your own pillowcase out of your favorite fabric! Students should bring 3/4 yard of fabric for the body of the pillowcase and 1/4 yard for the trim. \n\n\n\nClick this link to register: https://crm.bloomerang.co/HostedDonation?ApiKey=pub_a0b6fd7f-4f00-11e9-9f3d-0aa640fb8062&WidgetId=150023171
X-ALT-DESC;FMTTYPE=text/html:July 11 - Decorative Arts Center of Ohio Class: <em>Make your own Pillowcase</em>\, \, Denise Wright: Instructor\, 1 &ndash\; 3 PM<br />\n<br />\n&#8203\;<span style="color: rgb(81\, 81\, 81)\; font-family: Arial\, Helvetica\, sans-serif\; background-color: rgb(255\, 255\, 255)\;">Make your own pillowcase out of your favorite fabric! Students should bring 3/4 yard of fabric for the body of the pillowcase and 1/4 yard for the trim.&nbsp\;<br />\n<br />\nClick this link to register:&nbsp\;</span><a href="https://crm.bloomerang.co/HostedDonation?ApiKey=pub_a0b6fd7f-4f00-11e9-9f3d-0aa640fb8062&amp\;WidgetId=150023171">https://crm.bloomerang.co/HostedDonation?ApiKey=pub_a0b6fd7f-4f00-11e9-9f3d-0aa640fb8062&amp\;WidgetId=150023171</a>
LOCATION:The Decorative Arts Center of Ohio 145 E. Main St. Lancaster\, OH 43130
UID:e.3121.623
SEQUENCE:3
DTSTAMP:20260422T105956Z
URL:https://business.lancoc.org/events/details/the-decorative-arts-center-of-ohio-class-make-your-own-pillowcase-denise-wright-instructor-623
END:VEVENT

END:VCALENDAR
