BEGIN:VCALENDAR
VERSION:2.0
PRODID:-//ChamberMaster//Event Calendar 2.0//EN
METHOD:PUBLISH
X-PUBLISHED-TTL:P3D
REFRESH-INTERVAL:P3D
CALSCALE:GREGORIAN
BEGIN:VEVENT
DTSTART:20200920T180000Z
DTEND:20200920T190000Z
X-MICROSOFT-CDO-ALLDAYEVENT:FALSE
SUMMARY:The Almost Lost Art of Scagliola
DESCRIPTION:Sunday\, September 20\, 2020\n\n2:00 pm\n\n$8/$5 members prepaid registration\n\n$10 at the door\n\nMultidisciplinary artist Melissa Vogley Woods\, currently Visiting Professor of Art at Dennison University\, will give an Artist Talk about how she incorporates scagliola--creating surfaces that look like marble--in her work.
X-ALT-DESC;FMTTYPE=text/html:Sunday\, September 20\, 2020<br />\n2:00 pm<br />\n$8/$5 members prepaid registration<br />\n$10 at the door<br />\nMultidisciplinary artist Melissa Vogley Woods\, currently Visiting Professor of Art at Dennison University\, will give an Artist Talk about how she incorporates scagliola--creating surfaces that look like marble--in her work.
LOCATION:First United Methodist Church 163 E Wheeling St. Lancaster\, OH 43130
UID:e.3121.466
SEQUENCE:3
DTSTAMP:20260423T093502Z
URL:https://business.lancoc.org/events/details/the-almost-lost-art-of-scagliola-09-20-2020-466
END:VEVENT

END:VCALENDAR
