BEGIN:VCALENDAR
VERSION:2.0
PRODID:-//ChamberMaster//Event Calendar 2.0//EN
METHOD:PUBLISH
X-PUBLISHED-TTL:P3D
REFRESH-INTERVAL:P3D
CALSCALE:GREGORIAN
BEGIN:VEVENT
DTSTART;VALUE=DATE:20200125
DTEND;VALUE=DATE:20200427
TRANSP:TRANSPARENT
X-MICROSOFT-CDO-ALLDAYEVENT:TRUE
SUMMARY:Tell Me a Story Where the Bad Girl Wins: The Life and Art of Barbara Shermund
DESCRIPTION:Barbara Shermund was one of the first women cartoonists to work for The New Yorker. Beginning there in 1925\, she contributed nine covers and hundreds of cartoons to the magazine\, and later became a celebrated mainstay at Esquire. Shermund's cartoons had a fierce and feminist electricity rarely seen in that era of male dominated cartooning. This exhibit celebrates the life and work of this essential cartoonist.
X-ALT-DESC;FMTTYPE=text/html:Barbara Shermund was one of the first women cartoonists to work for The New Yorker. Beginning there in 1925\, she contributed nine covers and hundreds of cartoons to the magazine\, and later became a celebrated mainstay at Esquire. Shermund&#39\;s cartoons had a fierce and feminist electricity rarely seen in that era of male dominated cartooning. This exhibit celebrates the life and work of this essential cartoonist.&nbsp\;
LOCATION:Decorative Arts Center of Ohio- Reese Peters House 145 E Main St Lancaster\, Ohio 43130
UID:e.3121.393
SEQUENCE:3
DTSTAMP:20260423T173340Z
URL:https://business.lancoc.org/events/details/tell-me-a-story-where-the-bad-girl-wins-the-life-and-art-of-barbara-shermund-393
END:VEVENT

END:VCALENDAR
