BEGIN:VCALENDAR
VERSION:2.0
PRODID:-//ChamberMaster//Event Calendar 2.0//EN
METHOD:PUBLISH
X-PUBLISHED-TTL:P3D
REFRESH-INTERVAL:P3D
CALSCALE:GREGORIAN
BEGIN:VEVENT
DTSTART:20180307T163000Z
DTEND:20180307T180000Z
X-MICROSOFT-CDO-ALLDAYEVENT:FALSE
SUMMARY:Tax Reform Lunch Presentation
DESCRIPTION:The Legislative Action Committee (LAC) of the Lancaster/ Fairfield County Chamber of Commerce would like to invite you to a presentation on the overview of the 2018 Tax Law Changes. As part of the LAC's 2018 Public Policy Priorities\, Tax Reform is identified as an area of focus in our efforts to advocate for our members. Please consider taking advantage of this informational session to learn how changes in the recent tax laws affect your business.
X-ALT-DESC;FMTTYPE=text/html:The Legislative Action Committee (LAC) of the Lancaster/ Fairfield County Chamber of Commerce would like to invite you to a presentation on the overview of the 2018 Tax Law Changes. As part of the LAC&rsquo\;s 2018 Public Policy Priorities\, Tax Reform is identified as an area of focus in our efforts to advocate for our members. Please consider taking advantage of this informational session to learn how changes in the recent tax laws affect your business.&nbsp\;
LOCATION:Ale House 1890 149 W. Main Street Lancaster\, Ohio 43130
UID:e.3121.2
SEQUENCE:3
DTSTAMP:20260425T144925Z
URL:https://business.lancoc.org/events/details/tax-reform-lunch-presentation-2
END:VEVENT

END:VCALENDAR
