BEGIN:VCALENDAR
VERSION:2.0
PRODID:-//ChamberMaster//Event Calendar 2.0//EN
METHOD:PUBLISH
X-PUBLISHED-TTL:P3D
REFRESH-INTERVAL:P3D
CALSCALE:GREGORIAN
BEGIN:VEVENT
DTSTART:20210829T000000Z
DTEND:20210829T000000Z
X-MICROSOFT-CDO-ALLDAYEVENT:FALSE
SUMMARY:Stuart's Opera House\, Town Mountain
DESCRIPTION:We are excited to welcome Town Mountain back to Stuart's Opera House on Saturday\, August 28\, 2021 at 8:00pm! Raw\, soulful\, and with plenty of swagger\, Town Mountain has earned raves for their hard-driving sound\, their in-house songwriting and the honky-tonk edge that permeates their exhilarating live performances\, whether in a packed club or at a sold-out festival. The hearty base of Town Mountain's music is the first and second generation of bluegrass spiced with country\, old school rock 'n' roll\, and boogie-woogie. It's what else goes into the mix that brings it all to life both on stage and on record and reflects the group's wide-ranging influences   from the Grateful Dead's Jerry Garcia and the ethereal lyrics of Robert Hunter\, to the honest\, vintage country of Willie\, Waylon\, and Merle. The Bend Bulletin's Brian McElhiney says Town Mountain\, "has serious country and rock 'n' roll DNA." Town Mountain features guitarist and vocalist Robert Greer\, banjoist Jesse Langlais\, mandolinist Phil Barker\, fiddler Bobby Britt\, and Zach Smith on bass. Get tickets and information at stuartsoperahouse.org\n\n\n\nClick HERE to learn more
X-ALT-DESC;FMTTYPE=text/html:We are excited to welcome Town Mountain back to Stuart&rsquo\;s Opera House on Saturday\, August 28\, 2021 at 8:00pm! Raw\, soulful\, and with plenty of swagger\, Town Mountain has earned raves for their hard-driving sound\, their in-house songwriting and the honky-tonk edge that permeates their exhilarating live performances\, whether in a packed club or at a sold-out festival. The hearty base of Town Mountain&rsquo\;s music is the first and second generation of bluegrass spiced with country\, old school rock &lsquo\;n&rsquo\; roll\, and boogie-woogie. It&rsquo\;s what else goes into the mix that brings it all to life both on stage and on record and reflects the group&rsquo\;s wide-ranging influences &ndash\; from the Grateful Dead&rsquo\;s Jerry Garcia and the ethereal lyrics of Robert Hunter\, to the honest\, vintage country of Willie\, Waylon\, and Merle. The Bend Bulletin&rsquo\;s Brian McElhiney says Town Mountain\, &ldquo\;has serious country and rock &rsquo\;n&rsquo\; roll DNA.&rdquo\; Town Mountain features guitarist and vocalist Robert Greer\, banjoist Jesse Langlais\, mandolinist Phil Barker\, fiddler Bobby Britt\, and Zach Smith on bass. Get tickets and information at <a href="http://stuartsoperahouse.org">stuartsoperahouse.org</a><br />\n<br />\nClick <a href="https://chambermaster.blob.core.windows.net/userfiles/UserFiles/chambers/3121/File/TownMountain2021_pressrelease.pdf">HERE</a> to learn more
LOCATION:Stuart's Opera House. 52 Public Square\, Nelsonville\, OH 45764
UID:e.3121.590
SEQUENCE:3
DTSTAMP:20260422T091207Z
URL:https://business.lancoc.org/events/details/stuart-s-opera-house-town-mountain-590
END:VEVENT

END:VCALENDAR
