BEGIN:VCALENDAR
VERSION:2.0
PRODID:-//ChamberMaster//Event Calendar 2.0//EN
METHOD:PUBLISH
X-PUBLISHED-TTL:P3D
REFRESH-INTERVAL:P3D
CALSCALE:GREGORIAN
BEGIN:VEVENT
DTSTART:20211111T010000Z
DTEND:20211111T010000Z
X-MICROSOFT-CDO-ALLDAYEVENT:FALSE
SUMMARY:Stuart's Opera House hosts Shovels & Rope on their Bare Bones Tour
DESCRIPTION:NELSONVILLE\, Ohio- We are excited to welcome Shovels & Rope back to Stuart's Opera House for their Bare Bones Tour on Wednesday\, November 10\, 2021 at 8:00pm! From Shovels & Rope: "We are genuinely thrilled to be able to announce an entire tour of new shows. It's been a long year and we are beyond grateful to be able to get back on the road and reconnect with yall. And what better time to play some shows in a way that we've never done before. The "Bare Bones Tour" will be our first truly stripped down tour. Piano. Guitar. Voices.. and that's pretty much it. Rooms will be a bit more intimate and we are all probably going to be a bit more quiet in volume\, but just as loud in spirit. Expect some classics\, some deep cuts\, and maybe a few new tunes. Let's get intimate!" Get tickets and information at stuartsoperahouse.org.\n\n \n\nShovels & Rope will perform at Stuart's Opera House on their Bare Bones Tour  in Nelsonville\, Ohio on Wednesday\, November 10th at 8:00pm\, doors open at 7:00pm. Tickets are available right now! Reserved seats are $30.00 in advance or $35.00 at the door\, and Box seats are $35.00 in advance and $40.00 at the door. Please note that an additional facility fee will be added to the price of each ticket. For more information call (740) 753-1924 or visit our website at www.stuartsoperahouse.org.
X-ALT-DESC;FMTTYPE=text/html:<strong><span style="font-family:times new roman\,serif\;"><span style="font-size:12.0pt\;">NELSONVILLE\, Ohio- </span></span></strong><span style="font-family:times new roman\,serif\;"><span style="font-size:12.0pt\;">We are excited to welcome Shovels &amp\; Rope back to Stuart&rsquo\;s Opera House for their Bare Bones Tour on Wednesday\, November 10\, 2021 at 8:00pm! From Shovels &amp\; Rope: &ldquo\;We are genuinely thrilled to be able to announce an entire tour of new shows. It&rsquo\;s been a long year and we are beyond grateful to be able to get back on the road and reconnect with yall. And what better time to play some shows in a way that we&rsquo\;ve never done before. The &ldquo\;Bare Bones Tour&rdquo\; will be our first truly stripped down tour. Piano. Guitar. Voices.. and that&rsquo\;s pretty much it. Rooms will be a bit more intimate and we are all probably going to be a bit more quiet in volume\, but just as loud in spirit. Expect some classics\, some deep cuts\, and maybe a few new tunes. Let&rsquo\;s get intimate!&rdquo\; Get tickets and information at stuartsoperahouse.org.<br />\n&nbsp\;<br />\nShovels &amp\; Rope will perform at Stuart&rsquo\;s Opera House on their Bare Bones Tour&nbsp\; in Nelsonville\, Ohio on Wednesday\, November 10<sup>th</sup> at 8:00pm\, doors open at 7:00pm. Tickets are available right now! Reserved seats are $30.00 in advance or $35.00 at the door\, and Box seats are $35.00 in advance and $40.00 at the door. Please note that an additional facility fee will be added to the price of each ticket. For more information call (740) 753-1924 or visit our website at www.stuartsoperahouse.org.</span></span>
LOCATION:Stuart's Opera House 52 Public Square Nelsonville\, OH 45764
UID:e.3121.607
SEQUENCE:3
DTSTAMP:20260420T042349Z
URL:https://business.lancoc.org/events/details/stuart-s-opera-house-hosts-shovels-rope-on-their-bare-bones-tour-607
END:VEVENT

END:VCALENDAR
