BEGIN:VCALENDAR
VERSION:2.0
PRODID:-//ChamberMaster//Event Calendar 2.0//EN
METHOD:PUBLISH
X-PUBLISHED-TTL:P3D
REFRESH-INTERVAL:P3D
CALSCALE:GREGORIAN
BEGIN:VEVENT
DTSTART:20210715T230000Z
DTEND:20210715T230000Z
X-MICROSOFT-CDO-ALLDAYEVENT:FALSE
SUMMARY:Stuart's Opera House\, Dawna\, Free Summer Concert Series
DESCRIPTION:We are excited to welcome Dawna to our free Summer Concert Series on Thursday\, July 15\, 2021 at 7:00pm at Robbins Crossing at Hocking College\, weather permitting. If inclement weather is in the forecast\, then this show will be moved to Stuart's Opera House as early as possible. Check on our website for updates at stuartsoperahouse.org.\n\n\n\nDawna is an eclectic rock band from Columbus\, Ohio. The group began their musical path in the summer of 2018 when Frontman/Songwriter\, Jesse Henry and keyboardist Ryan Paradise collaborated with power trio\, The High Definitions.\n\nTight harmonies\, arrangements\, and talented musicians are the foundation of Dawna's unique sound. Henry's songwriting establishes a modern identity while paying homage to American roots\, blues\, jazz\, and country. Together\, Dawna creates soundscapes\, and adventurous imagery that take the listener on a fun\, thoughtful\, and soulful journey.\n\nWe want to give a special thank you to our series sponsors Jay and Miki Brooks\, Duck Creek Log Jam\, Nelsonville Chamber of Commerce\, Mike and Pam Brooks\, James L. McCoy in Memory of Katie McCoy\, and Adventure Pro Outdoors. Thank you to Shade Winery for sponsoring this show!\n\n\n\nDawna will perform at Robbins Crossing at Hocking College in Nelsonville\, Ohio on Thursday\, July 15th at 7:00pm. Admission is free and all are welcome. We will be serving beer on site. For more information call (740) 753-1924 or visit our website at www.stuartsoperahouse.org.
X-ALT-DESC;FMTTYPE=text/html:<span style="font-family:times new roman\,serif\;"><span style="font-size:12.0pt\;">We are excited to welcome Dawna to our free Summer Concert Series on Thursday\, July 15\, 2021 at 7:00pm at Robbins Crossing at Hocking College\, weather permitting. If inclement weather is in the forecast\, then this show will be moved to Stuart&rsquo\;s Opera House as early as possible. Check on our website for updates at stuartsoperahouse.org.<br />\n<br />\nDawna is an eclectic rock band from Columbus\, Ohio. The group began their musical path in the summer of 2018 when Frontman/Songwriter\, Jesse Henry and keyboardist Ryan Paradise collaborated with power trio\, The High Definitions.</span></span><br />\n<span style="font-family:times new roman\,serif\;"><span style="font-size:12.0pt\;">Tight harmonies\, arrangements\, and talented musicians are the foundation of Dawna&rsquo\;s unique sound. Henry&rsquo\;s songwriting establishes a modern identity while paying homage to American roots\, blues\, jazz\, and country. Together\, Dawna creates soundscapes\, and adventurous imagery that take the listener on a fun\, thoughtful\, and soulful journey.</span></span><br />\n<span style="font-family:times new roman\,serif\;"><span style="font-size:12.0pt\;">We want to give a special thank you to our series sponsors Jay and Miki Brooks\, Duck Creek Log Jam\, Nelsonville Chamber of Commerce\, Mike and Pam Brooks\, James L. McCoy in Memory of Katie McCoy\, and Adventure Pro Outdoors. Thank you to Shade Winery for sponsoring this show!<br />\n<br />\nDawna will perform at Robbins Crossing at Hocking College in Nelsonville\, Ohio on Thursday\, July 15<sup>th</sup> at 7:00pm. Admission is free and all are welcome. We will be serving beer on site. For more information call (740) 753-1924 or visit our website at <a href="http://www.stuartsoperahouse.org">www.stuartsoperahouse.org</a>.</span></span>
LOCATION:Stuart's Opera House 52 Public Square Nelsonville\, OH 45764
UID:e.3121.625
SEQUENCE:3
DTSTAMP:20260422T110359Z
URL:https://business.lancoc.org/events/details/stuart-s-opera-house-dawna-free-summer-concert-series-625
END:VEVENT

END:VCALENDAR
