BEGIN:VCALENDAR
VERSION:2.0
PRODID:-//ChamberMaster//Event Calendar 2.0//EN
METHOD:PUBLISH
X-PUBLISHED-TTL:P3D
REFRESH-INTERVAL:P3D
CALSCALE:GREGORIAN
BEGIN:VEVENT
DTSTART:20210501T123000Z
DTEND:20210501T123000Z
X-MICROSOFT-CDO-ALLDAYEVENT:FALSE
SUMMARY:Stephy's House 4-Person Scramble Golf Outing
DESCRIPTION:Stephy's House's 5th Annual 4-Person Scramble\n\nTo Register\, Please Email: Names\, Phone Numbers\, Email Addresses and Name of Captain to jseifert@stephyshouse.org
X-ALT-DESC;FMTTYPE=text/html:Stephy&#39\;s House&#39\;s 5th Annual 4-Person Scramble<br />\nTo Register\, Please Email: Names\, Phone Numbers\, Email Addresses and Name of Captain to&nbsp\;<a href="http://jseifert@stephyshouse.org">jseifert@stephyshouse.org</a>
LOCATION:Hocking Hills Golf Club & Urban Grille 14405 Country Club Lane Logan\, OH 43138
UID:e.3121.505
SEQUENCE:3
DTSTAMP:20260422T163208Z
URL:https://business.lancoc.org/events/details/stephy-s-house-4-person-scramble-golf-outing-505
END:VEVENT

END:VCALENDAR
