BEGIN:VCALENDAR
VERSION:2.0
PRODID:-//ChamberMaster//Event Calendar 2.0//EN
METHOD:PUBLISH
X-PUBLISHED-TTL:P3D
REFRESH-INTERVAL:P3D
CALSCALE:GREGORIAN
BEGIN:VEVENT
DTSTART:20180424T153000Z
DTEND:20180424T170000Z
X-MICROSOFT-CDO-ALLDAYEVENT:FALSE
SUMMARY:State of the County
DESCRIPTION:
X-ALT-DESC;FMTTYPE=text/html:
LOCATION:Crossroads Event Center 2095 W. Fair Avenue\, Lancaster
UID:e.3121.4
SEQUENCE:3
DTSTAMP:20260425T124758Z
URL:https://business.lancoc.org/events/details/state-of-the-county-4
END:VEVENT

END:VCALENDAR
